BEGIN:VCALENDAR
PRODID:-//punkave//apostrophe 1.x//EN
VERSION:1.0
TZ:0
BEGIN:VEVENT
CATEGORIES:MEETING
DTSTART:20130426T130000Z
DTEND:20130426T133000Z
DTSTAMP:20130420T011600Z
SUMMARY:Kindergarten 46th Class of Greene Towne Photo Session
DESCRIPTION:Friday, April 26 at 9:00 am All Kindergarteners arrive to school NO LATER than 9:00 am. For more details, email Erika at egoldberg@gtms.org
LOCATION:
UID:1442
END:VEVENT
END:VCALENDAR