BEGIN:VCALENDAR
PRODID:-//punkave//apostrophe 1.x//EN
VERSION:1.0
TZ:0
BEGIN:VEVENT
CATEGORIES:MEETING
DTSTART:20130426T153000Z
DTEND:20130426T160000Z
DTSTAMP:20130116T010400Z
SUMMARY:Staff In-Service: 11:45 DISMISSAL
DESCRIPTION:ADM in session.
LOCATION:
UID:1342
END:VEVENT
END:VCALENDAR