BEGIN:VCALENDAR
PRODID:-//punkave//apostrophe 1.x//EN
VERSION:1.0
TZ:0
BEGIN:VEVENT
CATEGORIES:MEETING
DTSTART:20130502T121500Z
DTEND:20130502T130000Z
DTSTAMP:20130116T010500Z
SUMMARY:1st Thursday Coffee: Building Self Esteem
DESCRIPTION:We invite all parents to join in First Thursday Coffees! Building Self Esteem in Your Child with Craig Stevens Ph.D: Self-esteem is the foundation of a child\'s well-being and the key to success as an adult. At all ages, how you feel about yourself affects how you act. This informative conversation will provide tips on how to build your child’s self-esteem and realistic approaches to help raise self-reliant and confident children.
LOCATION:
UID:1343
END:VEVENT
END:VCALENDAR