BEGIN:VCALENDAR
PRODID:-//punkave//apostrophe 1.x//EN
VERSION:1.0
TZ:0
BEGIN:VEVENT
CATEGORIES:MEETING
DTSTART:20130504T150000Z
DTEND:20130504T180000Z
DTSTAMP:20130116T011000Z
SUMMARY:Spring Picnic and Celebration of 25 Years with Jean Prestas as Lead Teacher
DESCRIPTION:Breakfast Reception for Jean\'s current and former families and colleagues Saturday, May 4, 2013 9 to 11 am at 2121 Arch Street Class Photo at 10 am for all of Jean\'s current and former students rsvp by April 29 to 215-563-6368 or egoldberg@gtms.org with your name and number of adults and children Spring Picnic for all at Lemon Hill to follow from 11 to 2 pm!
LOCATION:
UID:1344
END:VEVENT
END:VCALENDAR