BEGIN:VCALENDAR
PRODID:-//punkave//apostrophe 1.x//EN
VERSION:1.0
TZ:0
BEGIN:VEVENT
CATEGORIES:MEETING
DTSTART:20130510T040000Z
DTEND:20130512T165959Z
DTSTAMP:20130116T011200Z
SUMMARY:Grandparent and Special Friends Day
DESCRIPTION:Invitations were sent out, and RSVPs/Change of Dismissals are due back this week! (By Friday, May 3)
LOCATION:
UID:1345
END:VEVENT
END:VCALENDAR