BEGIN:VCALENDAR
PRODID:-//punkave//apostrophe 1.x//EN
VERSION:1.0
TZ:0
BEGIN:VEVENT
CATEGORIES:MEETING
DTSTART:20130514T121500Z
DTEND:20130514T130000Z
DTSTAMP:20130116T011438Z
SUMMARY:Next Year\'s Kindergarten Parent Orientation Coffee
DESCRIPTION:Orientation Coffee for next year\'s K parents.
LOCATION:
UID:1346
END:VEVENT
END:VCALENDAR