BEGIN:VCALENDAR
PRODID:-//punkave//apostrophe 1.x//EN
VERSION:1.0
TZ:0
BEGIN:VEVENT
CATEGORIES:MEETING
DTSTART:20130516T220000Z
DTEND:20130516T233000Z
DTSTAMP:20130116T011535Z
SUMMARY:New Parent Social
DESCRIPTION:
LOCATION:
UID:1347
END:VEVENT
END:VCALENDAR