BEGIN:VCALENDAR
PRODID:-//punkave//apostrophe 1.x//EN
VERSION:1.0
TZ:0
BEGIN:VEVENT
CATEGORIES:MEETING
DTSTART:20130524T040000Z
DTEND:20130526T165959Z
DTSTAMP:20130116T011633Z
SUMMARY:Staff In-service: 11:45 DISMISSAL
DESCRIPTION:ADM is in session.
LOCATION:
UID:1348
END:VEVENT
END:VCALENDAR