BEGIN:VCALENDAR
PRODID:-//punkave//apostrophe 1.x//EN
VERSION:1.0
TZ:0
BEGIN:VEVENT
CATEGORIES:MEETING
DTSTART:20130527T040000Z
DTEND:20130529T165959Z
DTSTAMP:20130116T011722Z
SUMMARY:Memorial Day: SCHOOL CLOSED
DESCRIPTION:ADM CLOSED.
LOCATION:
UID:1349
END:VEVENT
END:VCALENDAR