BEGIN:VCALENDAR
PRODID:-//punkave//apostrophe 1.x//EN
VERSION:1.0
TZ:0
BEGIN:VEVENT
CATEGORIES:MEETING
DTSTART:20130529T040000Z
DTEND:20130601T165959Z
DTSTAMP:20130108T054500Z
SUMMARY:Lemonade Stand and Bake Sale
DESCRIPTION:The Kindergarten students will be having a lemonade stand/bake sale at the 11:45 and 2:45 dismissals on 5/29 and 5/30.
LOCATION:
UID:1328
END:VEVENT
END:VCALENDAR