BEGIN:VCALENDAR
PRODID:-//punkave//apostrophe 1.x//EN
VERSION:1.0
TZ:0
BEGIN:VEVENT
CATEGORIES:MEETING
DTSTART:20130605T213000Z
DTEND:20130605T223000Z
DTSTAMP:20130116T011900Z
SUMMARY:Toddler House Ice Cream Social
DESCRIPTION:For GTMS Toddler Families!
LOCATION:
UID:1350
END:VEVENT
END:VCALENDAR