BEGIN:VCALENDAR
PRODID:-//punkave//apostrophe 1.x//EN
VERSION:1.0
TZ:0
BEGIN:VEVENT
CATEGORIES:MEETING
DTSTART:20130607T040000Z
DTEND:20130609T165959Z
DTSTAMP:20130116T012800Z
SUMMARY:Last Day of School: 10:30am STAGGERED DISMISSAL
DESCRIPTION:For families that do not have a K student 8-9am: Drop off as usual 10:30-10:45am: Toddler House Dismissal 10:30-10:45am: Parents may pick up younger Primary students from the classroom and say goodbye to the teachers. 10:45am: All Primary Students Dismissed from lobby (ADM not in session.) For families with a K student 8-9am: Drop off as usual 10:45-11am: Parents can pick up younger siblings from lobby and head upstairs for K Recognition Ceremony 11:15am: K Recognition Ceremony Noon: School Closed.
LOCATION:
UID:1351
END:VEVENT
END:VCALENDAR