BEGIN:VCALENDAR
PRODID:-//punkave//apostrophe 1.x//EN
VERSION:1.0
TZ:0
BEGIN:VEVENT
CATEGORIES:MEETING
DTSTART:20130610T040000Z
DTEND:20130612T165959Z
DTSTAMP:20130116T012946Z
SUMMARY:GTMS Family Day at Sesame Place
DESCRIPTION:
LOCATION:
UID:1352
END:VEVENT
END:VCALENDAR