BEGIN:VCALENDAR
PRODID:-//punkave//apostrophe 1.x//EN
VERSION:1.0
TZ:0
BEGIN:VEVENT
CATEGORIES:MEETING
DTSTART:20130617T040000Z
DTEND:20130619T165959Z
DTSTAMP:20130617T223542Z
SUMMARY:Sweat Swim Lessons
DESCRIPTION:For pre-registered campers.
LOCATION:
UID:1487
END:VEVENT
END:VCALENDAR