BEGIN:VCALENDAR
PRODID:-//punkave//apostrophe 1.x//EN
VERSION:1.0
TZ:0
BEGIN:VEVENT
CATEGORIES:MEETING
DTSTART:20130618T040000Z
DTEND:20130620T165959Z
DTSTAMP:20130617T222946Z
SUMMARY:Mr. David visiting
DESCRIPTION:
LOCATION:
UID:1482
END:VEVENT
END:VCALENDAR