BEGIN:VCALENDAR
PRODID:-//punkave//apostrophe 1.x//EN
VERSION:1.0
TZ:0
BEGIN:VEVENT
CATEGORIES:MEETING
DTSTART:20130620T040000Z
DTEND:20130622T165959Z
DTSTAMP:20130617T223130Z
SUMMARY:NJ Academy of Aquatic Sciences Visiting
DESCRIPTION:\"Oceans in Motion\"
LOCATION:
UID:1483
END:VEVENT
END:VCALENDAR