BEGIN:VCALENDAR
PRODID:-//punkave//apostrophe 1.x//EN
VERSION:1.0
TZ:0
BEGIN:VEVENT
CATEGORIES:MEETING
DTSTART:20130621T040000Z
DTEND:20130623T165959Z
DTSTAMP:20130617T223222Z
SUMMARY:Sweat Swim Lessons
DESCRIPTION:For pre-registered campers.
LOCATION:
UID:1484
END:VEVENT
END:VCALENDAR