BEGIN:VCALENDAR
PRODID:-//punkave//apostrophe 1.x//EN
VERSION:1.0
TZ:0
BEGIN:VEVENT
CATEGORIES:MEETING
DTSTART:20130625T040000Z
DTEND:20130627T165959Z
DTSTAMP:20130617T223353Z
SUMMARY:Garden State Discovery Museum
DESCRIPTION:\"Curly the Caterpillar\"
LOCATION:
UID:1485
END:VEVENT
END:VCALENDAR