BEGIN:VCALENDAR
PRODID:-//punkave//apostrophe 1.x//EN
VERSION:1.0
TZ:0
BEGIN:VEVENT
CATEGORIES:MEETING
DTSTART:20130628T040000Z
DTEND:20130630T165959Z
DTSTAMP:20130618T005600Z
SUMMARY:Sweat Swim Lessons
DESCRIPTION:For pre-registered campers.
LOCATION:
UID:1488
END:VEVENT
END:VCALENDAR