BEGIN:VCALENDAR
PRODID:-//punkave//apostrophe 1.x//EN
VERSION:1.0
TZ:0
BEGIN:VEVENT
CATEGORIES:MEETING
DTSTART:20130702T040000Z
DTEND:20130704T165959Z
DTSTAMP:20130618T005817Z
SUMMARY:John Carlson Visiting
DESCRIPTION:
LOCATION:
UID:1489
END:VEVENT
END:VCALENDAR