BEGIN:VCALENDAR
PRODID:-//punkave//apostrophe 1.x//EN
VERSION:1.0
TZ:0
BEGIN:VEVENT
CATEGORIES:MEETING
DTSTART:20130704T040000Z
DTEND:20130706T165959Z
DTSTAMP:20130116T013100Z
SUMMARY:Independence Day: CAMP CLOSED
DESCRIPTION:ADM CLOSED.
LOCATION:
UID:1354
END:VEVENT
END:VCALENDAR