BEGIN:VCALENDAR
PRODID:-//punkave//apostrophe 1.x//EN
VERSION:1.0
TZ:0
BEGIN:VEVENT
CATEGORIES:MEETING
DTSTART:20130708T040000Z
DTEND:20130710T165959Z
DTSTAMP:20130618T041055Z
SUMMARY:NJ Association of Aquatic Sciences Visiting
DESCRIPTION:\"Tide Pool Toddlers\"
LOCATION:
UID:1491
END:VEVENT
END:VCALENDAR