BEGIN:VCALENDAR
PRODID:-//punkave//apostrophe 1.x//EN
VERSION:1.0
TZ:0
BEGIN:VEVENT
CATEGORIES:MEETING
DTSTART:20130709T040000Z
DTEND:20130711T165959Z
DTSTAMP:20130618T041235Z
SUMMARY:Garden State Discovery Museum
DESCRIPTION:\"Bubble Magic\"
LOCATION:
UID:1492
END:VEVENT
END:VCALENDAR