BEGIN:VCALENDAR
PRODID:-//punkave//apostrophe 1.x//EN
VERSION:1.0
TZ:0
BEGIN:VEVENT
CATEGORIES:MEETING
DTSTART:20130711T040000Z
DTEND:20130713T165959Z
DTSTAMP:20130618T042343Z
SUMMARY:Mad Science Visiting
DESCRIPTION:\"Smoke and Bubbles\"
LOCATION:
UID:1493
END:VEVENT
END:VCALENDAR