BEGIN:VCALENDAR
PRODID:-//punkave//apostrophe 1.x//EN
VERSION:1.0
TZ:0
BEGIN:VEVENT
CATEGORIES:MEETING
DTSTART:20130712T040000Z
DTEND:20130714T165959Z
DTSTAMP:20130618T042559Z
SUMMARY:Pizza and Water Ice Party!
DESCRIPTION:No need to bring lunch!
LOCATION:
UID:1495
END:VEVENT
END:VCALENDAR