BEGIN:VCALENDAR
PRODID:-//punkave//apostrophe 1.x//EN
VERSION:1.0
TZ:0
BEGIN:VEVENT
CATEGORIES:MEETING
DTSTART:20130712T040000Z
DTEND:20130714T165959Z
DTSTAMP:20130618T042437Z
SUMMARY:Sweat Swim Lessons
DESCRIPTION:For pre-registered campers.
LOCATION:
UID:1494
END:VEVENT
END:VCALENDAR