BEGIN:VCALENDAR
PRODID:-//punkave//apostrophe 1.x//EN
VERSION:1.0
TZ:0
BEGIN:VEVENT
CATEGORIES:MEETING
DTSTART:20130716T040000Z
DTEND:20130718T165959Z
DTSTAMP:20130618T213315Z
SUMMARY:Librarian Visiting
DESCRIPTION:Storytime!
LOCATION:
UID:1496
END:VEVENT
END:VCALENDAR