BEGIN:VCALENDAR
PRODID:-//punkave//apostrophe 1.x//EN
VERSION:1.0
TZ:0
BEGIN:VEVENT
CATEGORIES:MEETING
DTSTART:20130718T040000Z
DTEND:20130720T165959Z
DTSTAMP:20130618T220206Z
SUMMARY:Chef Joel Visiting
DESCRIPTION:Campers will make Philly Soft Pretzels with Chef Joel!
LOCATION:
UID:1497
END:VEVENT
END:VCALENDAR