BEGIN:VCALENDAR
PRODID:-//punkave//apostrophe 1.x//EN
VERSION:1.0
TZ:0
BEGIN:VEVENT
CATEGORIES:MEETING
DTSTART:20130723T040000Z
DTEND:20130725T165959Z
DTSTAMP:20130618T220700Z
SUMMARY:Philadelphia Zoo Visiting
DESCRIPTION:\"Ears, Eyes, Nose and Toes\"
LOCATION:
UID:1500
END:VEVENT
END:VCALENDAR