BEGIN:VCALENDAR
PRODID:-//punkave//apostrophe 1.x//EN
VERSION:1.0
TZ:0
BEGIN:VEVENT
CATEGORIES:MEETING
DTSTART:20130724T040000Z
DTEND:20130726T165959Z
DTSTAMP:20130618T220357Z
SUMMARY:Philadelphia Zoo Visiting
DESCRIPTION:\"Tiny Tots\"
LOCATION:
UID:1499
END:VEVENT
END:VCALENDAR