BEGIN:VCALENDAR
PRODID:-//punkave//apostrophe 1.x//EN
VERSION:1.0
TZ:0
BEGIN:VEVENT
CATEGORIES:MEETING
DTSTART:20130725T040000Z
DTEND:20130727T165959Z
DTSTAMP:20130618T221036Z
SUMMARY:Mad Science Visiting
DESCRIPTION:\"Fluttering Birds\"
LOCATION:
UID:1501
END:VEVENT
END:VCALENDAR