BEGIN:VCALENDAR
PRODID:-//punkave//apostrophe 1.x//EN
VERSION:1.0
TZ:0
BEGIN:VEVENT
CATEGORIES:MEETING
DTSTART:20130726T040000Z
DTEND:20130728T165959Z
DTSTAMP:20130618T221700Z
SUMMARY:Sweat Swim Lessons
DESCRIPTION:For pre-registered campers.
LOCATION:
UID:1502
END:VEVENT
END:VCALENDAR