BEGIN:VCALENDAR
PRODID:-//punkave//apostrophe 1.x//EN
VERSION:1.0
TZ:0
BEGIN:VEVENT
CATEGORIES:MEETING
DTSTART:20130730T040000Z
DTEND:20130801T165959Z
DTSTAMP:20130618T222420Z
SUMMARY:Garden State Discovery Museum
DESCRIPTION:\"Planet Pirates\"
LOCATION:
UID:1503
END:VEVENT
END:VCALENDAR