BEGIN:VCALENDAR
PRODID:-//punkave//apostrophe 1.x//EN
VERSION:1.0
TZ:0
BEGIN:VEVENT
CATEGORIES:MEETING
DTSTART:20130801T040000Z
DTEND:20130803T165959Z
DTSTAMP:20130618T222518Z
SUMMARY:Franklin Institute Visiting
DESCRIPTION:\"Build it Up!\"
LOCATION:
UID:1504
END:VEVENT
END:VCALENDAR