BEGIN:VCALENDAR
PRODID:-//punkave//apostrophe 1.x//EN
VERSION:1.0
TZ:0
BEGIN:VEVENT
CATEGORIES:MEETING
DTSTART:20130806T040000Z
DTEND:20130808T165959Z
DTSTAMP:20130618T222712Z
SUMMARY:Mad Science Visiting
DESCRIPTION:\"Powerful Plants\"
LOCATION:
UID:1506
END:VEVENT
END:VCALENDAR