BEGIN:VCALENDAR
PRODID:-//punkave//apostrophe 1.x//EN
VERSION:1.0
TZ:0
BEGIN:VEVENT
CATEGORIES:MEETING
DTSTART:20130809T040000Z
DTEND:20130811T165959Z
DTSTAMP:20130618T223201Z
SUMMARY:Last Day of Camp Party! Camp Closed at 3pm. (ADM not in session.)
DESCRIPTION:Face Painting! Pizza and Water Ice! (No lunch needed!) ADM NOT in session today-Camp closes at 3pm!
LOCATION:
UID:1508
END:VEVENT
END:VCALENDAR