BEGIN:VCALENDAR
PRODID:-//punkave//apostrophe 1.x//EN
VERSION:1.0
TZ:0
BEGIN:VEVENT
CATEGORIES:MEETING
DTSTART:20130902T040000Z
DTEND:20130904T165959Z
DTSTAMP:20130709T002202Z
SUMMARY:School and ADM Closed: Labor Day
DESCRIPTION:
LOCATION:
UID:1513
END:VEVENT
END:VCALENDAR