BEGIN:VCALENDAR
PRODID:-//punkave//apostrophe 1.x//EN
VERSION:1.0
TZ:0
BEGIN:VEVENT
CATEGORIES:MEETING
DTSTART:20130903T040000Z
DTEND:20130908T165959Z
DTSTAMP:20130709T004650Z
SUMMARY:Phase-In
DESCRIPTION:School has an abbreviated phase-in schedule this week. All schedules have been sent out; contact the office for assistance. Returning ADM in session Tuesday and Wednesday, 9/3 and 9/4. ADM in session Thursday and Friday, 9/5 and 9/6.
LOCATION:
UID:1516
END:VEVENT
END:VCALENDAR