BEGIN:VCALENDAR
PRODID:-//punkave//apostrophe 1.x//EN
VERSION:1.0
TZ:0
BEGIN:VEVENT
CATEGORIES:MEETING
DTSTART:20130906T123000Z
DTEND:20130906T133000Z
DTSTAMP:20130709T005321Z
SUMMARY:Parent Coffee: Meet and Greet and Orientation
DESCRIPTION:Parent Meet and Greet Coffee and Orientation.
LOCATION:
UID:1518
END:VEVENT
END:VCALENDAR