BEGIN:VCALENDAR
PRODID:-//punkave//apostrophe 1.x//EN
VERSION:1.0
TZ:0
BEGIN:VEVENT
CATEGORIES:MEETING
DTSTART:20130908T160000Z
DTEND:20130908T180000Z
DTSTAMP:20130709T005031Z
SUMMARY:Toddler House Brunch and Orientation
DESCRIPTION:Parent only brunch and orientation with Toddler House staff.
LOCATION:
UID:1517
END:VEVENT
END:VCALENDAR