BEGIN:VCALENDAR
PRODID:-//punkave//apostrophe 1.x//EN
VERSION:1.0
TZ:0
BEGIN:VEVENT
CATEGORIES:MEETING
DTSTART:20130910T220000Z
DTEND:20130911T001500Z
DTSTAMP:20130709T011027Z
SUMMARY:Parent Potluck and Workshop with Ms. Matsukevich
DESCRIPTION:Parent only evening with Anna Matsukevich.
LOCATION:
UID:1521
END:VEVENT
END:VCALENDAR