BEGIN:VCALENDAR
PRODID:-//punkave//apostrophe 1.x//EN
VERSION:1.0
TZ:0
BEGIN:VEVENT
CATEGORIES:MEETING
DTSTART:20130911T121500Z
DTEND:20130911T130000Z
DTSTAMP:20130709T012805Z
SUMMARY:Kindergarten Parent Coffee
DESCRIPTION:Parent Coffee for K parents.
LOCATION:
UID:1522
END:VEVENT
END:VCALENDAR