BEGIN:VCALENDAR
PRODID:-//punkave//apostrophe 1.x//EN
VERSION:1.0
TZ:0
BEGIN:VEVENT
CATEGORIES:MEETING
DTSTART:20130911T220000Z
DTEND:20130912T001500Z
DTSTAMP:20130709T013707Z
SUMMARY:Parent Potluck and Workshop with Ms. Dhar
DESCRIPTION:Parent only evening with Neepa Dhar.
LOCATION:
UID:1523
END:VEVENT
END:VCALENDAR