BEGIN:VCALENDAR
PRODID:-//punkave//apostrophe 1.x//EN
VERSION:1.0
TZ:0
BEGIN:VEVENT
CATEGORIES:MEETING
DTSTART:20130912T220000Z
DTEND:20130913T001500Z
DTSTAMP:20130709T013939Z
SUMMARY:Parent Potluck and Workshop with Ms. Prestas
DESCRIPTION:Parent only evening with Jean Prestas.
LOCATION:
UID:1524
END:VEVENT
END:VCALENDAR