BEGIN:VCALENDAR
PRODID:-//punkave//apostrophe 1.x//EN
VERSION:1.0
TZ:0
BEGIN:VEVENT
CATEGORIES:MEETING
DTSTART:20130917T220000Z
DTEND:20130918T001500Z
DTSTAMP:20130709T014700Z
SUMMARY:Parent Potluck and Workshop with Katie Brown (Ms. Pysher)
DESCRIPTION:Parent only evening with Katie Brown.
LOCATION:
UID:1525
END:VEVENT
END:VCALENDAR