BEGIN:VCALENDAR
PRODID:-//punkave//apostrophe 1.x//EN
VERSION:1.0
TZ:0
BEGIN:VEVENT
CATEGORIES:MEETING
DTSTART:20130919T220000Z
DTEND:20130920T001500Z
DTSTAMP:20130709T015455Z
SUMMARY:Parent Potluck and Workshop with Mr. Dumas
DESCRIPTION:A Parent evening only with Aurelien Dumas.
LOCATION:
UID:1527
END:VEVENT
END:VCALENDAR