BEGIN:VCALENDAR
PRODID:-//punkave//apostrophe 1.x//EN
VERSION:1.0
TZ:0
BEGIN:VEVENT
CATEGORIES:MEETING
DTSTART:20130921T123000Z
DTEND:20130921T193000Z
DTSTAMP:20130709T015057Z
SUMMARY:Board Retreat
DESCRIPTION:
LOCATION:
UID:1526
END:VEVENT
END:VCALENDAR