BEGIN:VCALENDAR
PRODID:-//punkave//apostrophe 1.x//EN
VERSION:1.0
TZ:0
BEGIN:VEVENT
CATEGORIES:MEETING
DTSTART:20130924T121500Z
DTEND:20130924T130000Z
DTSTAMP:20130709T035122Z
SUMMARY:Auction Coffee
DESCRIPTION:
LOCATION:
UID:1528
END:VEVENT
END:VCALENDAR