BEGIN:VCALENDAR
PRODID:-//punkave//apostrophe 1.x//EN
VERSION:1.0
TZ:0
BEGIN:VEVENT
CATEGORIES:MEETING
DTSTART:20130927T040000Z
DTEND:20130929T165959Z
DTSTAMP:20130709T040900Z
SUMMARY:Kindergarten Field Trip
DESCRIPTION:
LOCATION:
UID:1529
END:VEVENT
END:VCALENDAR