BEGIN:VCALENDAR
PRODID:-//punkave//apostrophe 1.x//EN
VERSION:1.0
TZ:0
BEGIN:VEVENT
CATEGORIES:MEETING
DTSTART:20130928T150000Z
DTEND:20130928T180000Z
DTSTAMP:20130711T001800Z
SUMMARY:Fall Family Picnic
DESCRIPTION:Rain date October 5th.
LOCATION:
UID:1530
END:VEVENT
END:VCALENDAR